BEGIN:VCALENDAR
VERSION:2.0
METHOD:PUBLISH
PRODID:-//Agenda.ad//NONSGML v1.0//EN
BEGIN:VEVENT
CLASS:PUBLIC
UID:0c3733ff2695f699f7a5a700cc103efc@agenda.ad
DTSTAMP:20260422T181832Z
DTSTART:20260528T220000Z
DTEND:20260528T220000Z
SUMMARY:<span>Cl&agrave;ssicAnd 2026.&nbsp;<span>Elīna Garanča, recital inaugural</span></span>
DESCRIPTION:\n\nMés informació\nhttps://www.agenda.ad/activitat/ordino
 /musica/classicand-2026 elīna-garanča-recital-inaugural\n
LOCATION:Auditori Nacional d'Andorra
SEQUENCE:0
TRANSP:OPAQUE
X-ALT-DESC;FMTTYPE=text/html:<!DOCTYPE HTML PUBLIC "-//W3C//DTD HTML 3.2//EN"><HTML><HEAD
 ><TITLE></TITLE></HEAD><BODY><FONT FACE="Arial" SIZE=2><br/>
 <br/><b>Més informació</b><br/><a href="https://www.agenda
 .ad/activitat/ordino/musica/classicand-2026 elīna-garanča
 -recital-inaugural">https://www.agenda.ad/activitat/ordino/m
 usica/classicand-2026 elīna-garanča-recital-inaugural</a>
 <br/></FONT></BODY></HTML>
END:VEVENT
END:VCALENDAR